BEGIN:VCALENDAR
VERSION:2.0
PRODID:-//wp-events-plugin.com//7.2.3.1//EN
TZID:Europe/Helsinki
X-WR-TIMEZONE:Europe/Helsinki
BEGIN:VEVENT
UID:21@lasal.fi
DTSTART;TZID=Europe/Helsinki:20260423T170000
DTEND;TZID=Europe/Helsinki:20260423T210000
DTSTAMP:20260111T113800Z
URL:https://lasal.fi/events/salsa-club-lahti-teerenpeli-10/
SUMMARY:Salsa Club Lahti @Teerenpeli
DESCRIPTION:17:00 – 18:00 Äijäsalsa Afterwork\, 18:00 – 21:00 Salsabi
 leet!\n(English description below)\nÄijäsalsa Afterwork 17:00 – 18:00\
 nTule oppimaan parisalsan perusjutut\, joilla pääset tanssimaan salsaa! 
 Tunnille ovat tervetulleita kaikki tanssijat ikään ja sukupuoleen katsom
 atta. Tunti on maksuton! Tule ajoissa\, jotta pääset koko tunnille mukaa
 n!Tämä tanssitunti on tarkoitettu erityisesti niille ihmisille jotka ova
 t aina luulleet etteivät osaa tanssia eivätkä muka opi tanssimaan. Eten
 kin meillä suomalaisilla miehillä tämä väärinkäsitys on jopa tavall
 inen. Olet oppinut monta muutakin taitoa!Aloitamme aivan alusta. Mitään 
 tanssitaustaa ei tarvita. Etenemme rauhallisesti\, joten ehdit omaksua tun
 nin asiat. Tämän tunnin taidoilla voit jäädä fiilistelemään salsamu
 siikkia illan salsabileisiin! Jos innostut aiheesta enemmän\, opetamme si
 nulle parisalsan alkeita sunnuntaisin Ensiaskeleet -tunneilla.Tunnin vetä
 ä Tapio\, joka on itsekin oppinut tanssimaan vasta sen jälkeen kun ei vi
 elä osannut… \n\nSalsa Club Lahti - Party! 18:00 – 21:00\nTervetuloa
  Kuubalaisen parisalsan ja sonin rytmeihin!Tasan noin kello 6 Äijäsalsan
  ohjaaja Tapio muuntautuu hämmästyttävästi DJ El Tapioksi\, ja soittaa
  sykkivimmät lattarirytmit Lahden pimenevään iltaan! Levylaukusta kaive
 taan esiin kuubalaista salsaa ja sonia. Ilan mausteena toimivat bachata se
 kä kizomba.Tule tutustumaan parisalsan yhteisöön ja opettajiin\, ja tan
 ssimaan kanssamme Karibian rytmejä!\n\nVapaa pääsy!\n------------------
 -----------------\n\n17:00 – 18:00 Äijäsalsa Afterwork\, 18:00 – 21:
 00 Salsa Party!\nÄijäsalsa Afterwork 17:00 – 18:00\nCome and join us t
 o learn salsa basics for dancing tonight! All dancers (ages\, ages\, gende
 rs\, orientations) are warmheartedly welcome. Class is free of charge. Com
 e in time so that you'll get to enjoy the class from beginning!This class 
 is especially good for those who've always thought that they cannot and wi
 ll not learn to dance. Us Finnish men have this misbelief in common. You'v
 e learned all you now know and can!We'll start from beginning\, no dance b
 ackground needed. We will go step by step\, and you'll have time to compre
 hend what we do. With these skills you can enjoy the salsa music at our pa
 rty tonight!If you want to learn more\, we will teach you Cuban Salsa basi
 cs at Nick's Dancing (www.nicksdancing.fi)\,  on sunday evenings.Even the
  dance instructor Tapio did not know how to dance before he learned...\n\n
 Salsa Club Lahti - Party! 18:00 – 21:00\nWelcome to rhytms of Cuban Sals
 a and Son!At precisely about 6 PM Äijäsalsa instructor Tapio will magica
 lly transform to DJ El Tapio\, and will play the most pulsing latino rhytm
 s to this darkening winter night in Lahti. He'll browse his virtual disc b
 ag to find cuban salsa and son to flavour with bachata and kizomba.\nYou a
 re welcome to get to know our salsa society and instructors\, and to dance
  Caribbean rhytms!\n\nFree Entrance!
CATEGORIES:Bileet
END:VEVENT
BEGIN:VTIMEZONE
TZID:Europe/Helsinki
X-LIC-LOCATION:Europe/Helsinki
BEGIN:DAYLIGHT
DTSTART:20260329T040000
TZOFFSETFROM:+0200
TZOFFSETTO:+0300
TZNAME:EEST
END:DAYLIGHT
END:VTIMEZONE
END:VCALENDAR